BEGIN:VCALENDAR
VERSION:2.0
PRODID:spatie/icalendar-generator
NAME:Argyle Band Boosters Calendar
X-WR-CALNAME:Argyle Band Boosters Calendar
REFRESH-INTERVAL;VALUE=DURATION:PT30M
X-PUBLISHED-TTL:PT30M
BEGIN:VTIMEZONE
TZID:America/Chicago
BEGIN:STANDARD
DTSTART:20251102T010000
TZOFFSETFROM:-0500
TZOFFSETTO:-0600
END:STANDARD
BEGIN:DAYLIGHT
DTSTART:20260308T010000
TZOFFSETFROM:-0600
TZOFFSETTO:-0500
END:DAYLIGHT
BEGIN:STANDARD
DTSTART:20261101T010000
TZOFFSETFROM:-0500
TZOFFSETTO:-0600
END:STANDARD
END:VTIMEZONE
BEGIN:VTIMEZONE
TZID:UTC
BEGIN:STANDARD
DTSTART:20250727T055836
TZOFFSETFROM:+0000
TZOFFSETTO:+0000
END:STANDARD
END:VTIMEZONE
BEGIN:VEVENT
UID:event-843008@argyleband.boosterhub.com
DTSTAMP:20260423T055836Z
SUMMARY:HS Spring Concert
DESCRIPTION:
LOCATION:High School Auditorium
X-MICROSOFT-CDO-ALLDAYEVENT:TRUE
DTSTART;TZID=America/Chicago;VALUE=DATE:20260427
DTEND;TZID=America/Chicago;VALUE=DATE:20260428
END:VEVENT
BEGIN:VEVENT
UID:event-843016@argyleband.boosterhub.com
DTSTAMP:20260423T055836Z
SUMMARY:2026 Marching Band Preview Parent Performance
DESCRIPTION:
LOCATION:Argyle HS
DTSTART;TZID=America/Chicago:20260515T193000
DTEND;TZID=America/Chicago:20260515T200000
END:VEVENT
BEGIN:VEVENT
UID:event-1179779@argyleband.boosterhub.com
DTSTAMP:20260423T055836Z
SUMMARY:Band Silent Auction
DESCRIPTION:<p>🌸 Looking for the perfect Mother’s Day gift or planning
  a summer getaway? ☀️</p><p><br></p><p>Don’t miss the Argyle Band Si
 lent Auction! From unique gifts to amazing vacation packages\, there’s s
 omething for everyone.</p><p><br></p><p><strong>👉 Site will be availabl
 e from 4/26-5/8:</strong> <a href=\"https://argyleband.betterworld.org/auc
 tions/argyle-band-spring-auction-2026\" rel=\"noopener noreferrer\" target
 =\"_blank\">https://argyleband.betterworld.org/auctions/argyle-band-spring
 -auction-2026</a></p><p><br></p><p>Every bid supports our band—happy sho
 pping! 🎶</p>
LOCATION:Online
X-MICROSOFT-CDO-ALLDAYEVENT:TRUE
DTSTART;TZID=America/Chicago;VALUE=DATE:20260426
DTEND;TZID=America/Chicago;VALUE=DATE:20260509
END:VEVENT
END:VCALENDAR